BEGIN:VCALENDAR
VERSION:2.0
PRODID:-//SSBD WashingtonDC - ECPv6.15.16//NONSGML v1.0//EN
CALSCALE:GREGORIAN
METHOD:PUBLISH
X-ORIGINAL-URL:https://ssbdwashingtondc.com
X-WR-CALDESC:Events for SSBD WashingtonDC
REFRESH-INTERVAL;VALUE=DURATION:PT1H
X-Robots-Tag:noindex
X-PUBLISHED-TTL:PT1H
BEGIN:VTIMEZONE
TZID:America/New_York
BEGIN:DAYLIGHT
TZOFFSETFROM:-0500
TZOFFSETTO:-0400
TZNAME:EDT
DTSTART:20230312T070000
END:DAYLIGHT
BEGIN:STANDARD
TZOFFSETFROM:-0400
TZOFFSETTO:-0500
TZNAME:EST
DTSTART:20231105T060000
END:STANDARD
BEGIN:DAYLIGHT
TZOFFSETFROM:-0500
TZOFFSETTO:-0400
TZNAME:EDT
DTSTART:20240310T070000
END:DAYLIGHT
BEGIN:STANDARD
TZOFFSETFROM:-0400
TZOFFSETTO:-0500
TZNAME:EST
DTSTART:20241103T060000
END:STANDARD
BEGIN:DAYLIGHT
TZOFFSETFROM:-0500
TZOFFSETTO:-0400
TZNAME:EDT
DTSTART:20250309T070000
END:DAYLIGHT
BEGIN:STANDARD
TZOFFSETFROM:-0400
TZOFFSETTO:-0500
TZNAME:EST
DTSTART:20251102T060000
END:STANDARD
END:VTIMEZONE
BEGIN:VEVENT
DTSTART;VALUE=DATE:20240802
DTEND;VALUE=DATE:20240805
DTSTAMP:20260422T170031
CREATED:20240605T221417Z
LAST-MODIFIED:20240605T221417Z
UID:204-1722556800-1722815999@ssbdwashingtondc.com
SUMMARY:USA\, Texas\, Dallas \, August 02-04
DESCRIPTION:First time Ever in Dallas\nTrain with the source. \nRegistration and Information Here!\n 
URL:https://ssbdwashingtondc.com/event/usa-texas-dallas-august-02-04/
LOCATION:CA
CATEGORIES:Seminars
ATTACH;FMTTYPE=image/jpeg:https://ssbdwashingtondc.com/wp-content/uploads/2024/06/SSBDDALLASORG.jpg
ORGANIZER;CN="Strickland's Martial Art's":MAILTO:https://www.stricklandsmartialarts.com
END:VEVENT
END:VCALENDAR