BEGIN:VCALENDAR
VERSION:2.0
PRODID:-//SSBD WashingtonDC - ECPv6.15.16//NONSGML v1.0//EN
CALSCALE:GREGORIAN
METHOD:PUBLISH
X-WR-CALNAME:SSBD WashingtonDC
X-ORIGINAL-URL:https://ssbdwashingtondc.com
X-WR-CALDESC:Events for SSBD WashingtonDC
REFRESH-INTERVAL;VALUE=DURATION:PT1H
X-Robots-Tag:noindex
X-PUBLISHED-TTL:PT1H
BEGIN:VTIMEZONE
TZID:America/Mexico_City
BEGIN:STANDARD
TZOFFSETFROM:-0600
TZOFFSETTO:-0600
TZNAME:CST
DTSTART:20230101T000000
END:STANDARD
END:VTIMEZONE
BEGIN:VTIMEZONE
TZID:America/New_York
BEGIN:DAYLIGHT
TZOFFSETFROM:-0500
TZOFFSETTO:-0400
TZNAME:EDT
DTSTART:20230312T070000
END:DAYLIGHT
BEGIN:STANDARD
TZOFFSETFROM:-0400
TZOFFSETTO:-0500
TZNAME:EST
DTSTART:20231105T060000
END:STANDARD
BEGIN:DAYLIGHT
TZOFFSETFROM:-0500
TZOFFSETTO:-0400
TZNAME:EDT
DTSTART:20240310T070000
END:DAYLIGHT
BEGIN:STANDARD
TZOFFSETFROM:-0400
TZOFFSETTO:-0500
TZNAME:EST
DTSTART:20241103T060000
END:STANDARD
BEGIN:DAYLIGHT
TZOFFSETFROM:-0500
TZOFFSETTO:-0400
TZNAME:EDT
DTSTART:20250309T070000
END:DAYLIGHT
BEGIN:STANDARD
TZOFFSETFROM:-0400
TZOFFSETTO:-0500
TZNAME:EST
DTSTART:20251102T060000
END:STANDARD
END:VTIMEZONE
BEGIN:VEVENT
DTSTART;VALUE=DATE:20240726
DTEND;VALUE=DATE:20240729
DTSTAMP:20260422T180054
CREATED:20240605T165340Z
LAST-MODIFIED:20240708T170101Z
UID:54-1721952000-1722211199@ssbdwashingtondc.com
SUMMARY:Mexico\, Mexico City July 26-28
DESCRIPTION:SSBD MEXICO invites you to:\nThe first ever SSBD Seminar in Mexico and Latin America \nDo not miss the opportunity to train with the source. \nSSBD Mexico City Seminar Time July 26-28\, 2024:\nFriday\, July. 26th: 16-21 \nSaturday\, July. 27th: 13-18 \nSunday\, July. 28th: 10-15 \nSeminar Information;\nThe seminar will take place at Riazor Hotel Event Hall in Mexico City on July 26\, 27 and 28.\nRoom reservations are to be made through the Hotel’s website only.\nThe Room includes breakfast and ground transportation from Mexico City International Airport.\nPlease mention “Mexico Silat Seminar” when you make your hotel reservation.\nThere is a spa\, a gym and a pool at the hotel\, also bar and restaurant.\nRemember mandatory standard protection gear\, like eye protection (goggles\, racket ball glasses or safety glasses) and knee pads\, elbow pads\, groin cup.\nWear comfortable cool clothes. \nRegister Here:\n \n\n \nRegister Here via QR Code:\n \nIf you need any additional information or have any questions\, please contact:\nJuan Alvarado: +52 33-13-67-19-34 \nssbd.mexico@gmail.com \nFacebook: SSBD Mexico Training Group & Juan E Alvarado. \nHOTEL RIAZOR MEXICO CITY: hotelriazor.mx
URL:https://ssbdwashingtondc.com/event/mexico-mexico-city-july-26-28/
LOCATION:Mexico\, Mexico City\, Mexico
ATTACH;FMTTYPE=image/jpeg:https://ssbdwashingtondc.com/wp-content/uploads/2024/06/SSBD_Seminar2024.jpg
ORGANIZER;CN="Juan Alvarado":MAILTO:ssbd.mexico@gmail.com
END:VEVENT
BEGIN:VEVENT
DTSTART;TZID=America/New_York:20240609T080000
DTEND;TZID=America/New_York:20240609T080000
DTSTAMP:20260422T180054
CREATED:20240605T220853Z
LAST-MODIFIED:20240605T221056Z
UID:200-1717920000-1717920000@ssbdwashingtondc.com
SUMMARY:Starts June 9th - Online Tekpi Course
DESCRIPTION:Online Tekpi Course in June\nWith Maul Mornie Live \nBeginners and anyone looking to enhance their Tekpi skills \n\n5 Sundays in June\n2.5 Hours per session\nSession times each Sunday\n8 AM EST\n2 PM EST\n8 PM EST\n\nAttend as many sessions as you please \nTo complete the entire course\, you will need Tekpi’s. \nFor more information were to get them click below. \nRegistration and more Information Here!\n 
URL:https://ssbdwashingtondc.com/event/starts-june-9th-online-tekpi-course/
LOCATION:CA
CATEGORIES:Seminars
ATTACH;FMTTYPE=image/jpeg:https://ssbdwashingtondc.com/wp-content/uploads/2024/06/Tekpi.jpg
END:VEVENT
END:VCALENDAR