BEGIN:VCALENDAR
VERSION:2.0
PRODID:-//SSBD WashingtonDC - ECPv6.15.16//NONSGML v1.0//EN
CALSCALE:GREGORIAN
METHOD:PUBLISH
X-ORIGINAL-URL:https://ssbdwashingtondc.com
X-WR-CALDESC:Events for SSBD WashingtonDC
REFRESH-INTERVAL;VALUE=DURATION:PT1H
X-Robots-Tag:noindex
X-PUBLISHED-TTL:PT1H
BEGIN:VTIMEZONE
TZID:America/Chicago
BEGIN:DAYLIGHT
TZOFFSETFROM:-0600
TZOFFSETTO:-0500
TZNAME:CDT
DTSTART:20230312T080000
END:DAYLIGHT
BEGIN:STANDARD
TZOFFSETFROM:-0500
TZOFFSETTO:-0600
TZNAME:CST
DTSTART:20231105T070000
END:STANDARD
BEGIN:DAYLIGHT
TZOFFSETFROM:-0600
TZOFFSETTO:-0500
TZNAME:CDT
DTSTART:20240310T080000
END:DAYLIGHT
BEGIN:STANDARD
TZOFFSETFROM:-0500
TZOFFSETTO:-0600
TZNAME:CST
DTSTART:20241103T070000
END:STANDARD
BEGIN:DAYLIGHT
TZOFFSETFROM:-0600
TZOFFSETTO:-0500
TZNAME:CDT
DTSTART:20250309T080000
END:DAYLIGHT
BEGIN:STANDARD
TZOFFSETFROM:-0500
TZOFFSETTO:-0600
TZNAME:CST
DTSTART:20251102T070000
END:STANDARD
END:VTIMEZONE
BEGIN:VTIMEZONE
TZID:America/Los_Angeles
BEGIN:DAYLIGHT
TZOFFSETFROM:-0800
TZOFFSETTO:-0700
TZNAME:PDT
DTSTART:20240310T100000
END:DAYLIGHT
BEGIN:STANDARD
TZOFFSETFROM:-0700
TZOFFSETTO:-0800
TZNAME:PST
DTSTART:20241103T090000
END:STANDARD
BEGIN:DAYLIGHT
TZOFFSETFROM:-0800
TZOFFSETTO:-0700
TZNAME:PDT
DTSTART:20250309T100000
END:DAYLIGHT
BEGIN:STANDARD
TZOFFSETFROM:-0700
TZOFFSETTO:-0800
TZNAME:PST
DTSTART:20251102T090000
END:STANDARD
BEGIN:DAYLIGHT
TZOFFSETFROM:-0800
TZOFFSETTO:-0700
TZNAME:PDT
DTSTART:20260308T100000
END:DAYLIGHT
BEGIN:STANDARD
TZOFFSETFROM:-0700
TZOFFSETTO:-0800
TZNAME:PST
DTSTART:20261101T090000
END:STANDARD
END:VTIMEZONE
BEGIN:VTIMEZONE
TZID:America/New_York
BEGIN:DAYLIGHT
TZOFFSETFROM:-0500
TZOFFSETTO:-0400
TZNAME:EDT
DTSTART:20250309T070000
END:DAYLIGHT
BEGIN:STANDARD
TZOFFSETFROM:-0400
TZOFFSETTO:-0500
TZNAME:EST
DTSTART:20251102T060000
END:STANDARD
BEGIN:DAYLIGHT
TZOFFSETFROM:-0500
TZOFFSETTO:-0400
TZNAME:EDT
DTSTART:20260308T070000
END:DAYLIGHT
BEGIN:STANDARD
TZOFFSETFROM:-0400
TZOFFSETTO:-0500
TZNAME:EST
DTSTART:20261101T060000
END:STANDARD
BEGIN:DAYLIGHT
TZOFFSETFROM:-0500
TZOFFSETTO:-0400
TZNAME:EDT
DTSTART:20270314T070000
END:DAYLIGHT
BEGIN:STANDARD
TZOFFSETFROM:-0400
TZOFFSETTO:-0500
TZNAME:EST
DTSTART:20271107T060000
END:STANDARD
END:VTIMEZONE
BEGIN:VEVENT
DTSTART;VALUE=DATE:20241115
DTEND;VALUE=DATE:20241118
DTSTAMP:20260422T165805
CREATED:20240605T221522Z
LAST-MODIFIED:20241108T232052Z
UID:208-1731628800-1731887999@ssbdwashingtondc.com
SUMMARY:USA\, Texas\, New Braunfels\, November 15-17
DESCRIPTION:Topics:\n\nMachete\nTomahawk\nFlexible Weapons (Sarong\, Plastic bags etc.)\n\nSeminar Registration and Information!\nSee you there!\n 
URL:https://ssbdwashingtondc.com/event/usa-texas-new-braunfels-november-15-17/
LOCATION:West Side Community Center\, 2932 S IH Frontage road\, New Braunfels\, TX\, 78130\, United States
CATEGORIES:Seminars
ATTACH;FMTTYPE=image/jpeg:https://ssbdwashingtondc.com/wp-content/uploads/2024/06/NewBraunfeld_Page1.jpg
END:VEVENT
BEGIN:VEVENT
DTSTART;VALUE=DATE:20250502
DTEND;VALUE=DATE:20250505
DTSTAMP:20260422T165805
CREATED:20250421T153108Z
LAST-MODIFIED:20250421T153157Z
UID:316-1746144000-1746403199@ssbdwashingtondc.com
SUMMARY:USA\, LA - Fullerton\, CA\, May 2-4
DESCRIPTION:Maul is back in LA – Fullerton!\nRegistration and Information Here!\n 
URL:https://ssbdwashingtondc.com/event/usa-la-fullerton-ca-may-2-4/
LOCATION:CA
CATEGORIES:Seminars
ATTACH;FMTTYPE=image/png:https://ssbdwashingtondc.com/wp-content/uploads/2025/04/Untitled-1-LA-Almost-Instagram.png
END:VEVENT
BEGIN:VEVENT
DTSTART;VALUE=DATE:20260508
DTEND;VALUE=DATE:20260511
DTSTAMP:20260422T165805
CREATED:20260223T124918Z
LAST-MODIFIED:20260223T125037Z
UID:328-1778198400-1778457599@ssbdwashingtondc.com
SUMMARY:USA\, Washington DC\, May 8-10 2026
DESCRIPTION:  \nFirst US SSBD Seminar for 2026!\nMaul is Coming back to Washington DC!\nREGISTRATION IS NOW OPEN!\nDon’t miss the chance to train with the source of Silat Suffian Bela Diri. \nSign up early to not miss out!\nRegistration and Information Here!\n 
URL:https://ssbdwashingtondc.com/event/usa-washington-dc-may-8-10-2026/
LOCATION:Gaithesburg Middle School\, 2 Teachers Way\, Gaithesburg\, Maryland\, 20877
CATEGORIES:Seminars
ATTACH;FMTTYPE=image/png:https://ssbdwashingtondc.com/wp-content/uploads/2026/02/Final-Version-Washington-DC-2026-2.0.png
ORGANIZER;CN="SSBD USA":MAILTO:contact@ssbdusa.com
END:VEVENT
BEGIN:VEVENT
DTSTART;VALUE=DATE:20260515
DTEND;VALUE=DATE:20260518
DTSTAMP:20260422T165805
CREATED:20260223T125343Z
LAST-MODIFIED:20260223T125343Z
UID:335-1778803200-1779062399@ssbdwashingtondc.com
SUMMARY:USA\, Los Angeles\, May 15-17 2026
DESCRIPTION:Save the date\, SSBD in Los Angeles in May 2026!\nMaul is Coming back to Los Angeles\nREGISTRATION IS NOW OPEN!\nDon’t miss the chance to train with the source of Silat Suffian Bela Diri. \nSign up early to not miss out!\nRegistration and Information Here!\n 
URL:https://ssbdwashingtondc.com/event/usa-los-angeles-may-15-17-2026/
LOCATION:Fullerton College\, 321 E Chapman Ave\, Fullerton\, CA 92832\, CA\, 92832\, United States
ATTACH;FMTTYPE=image/png:https://ssbdwashingtondc.com/wp-content/uploads/2026/02/Final-Version-Los-Angeles-2026-1.0.png
ORGANIZER;CN="SSBD USA":MAILTO:contact@ssbdusa.com
END:VEVENT
END:VCALENDAR